BEGIN:VCALENDAR
VERSION:2.0
PRODID:-//Plone.org//NONSGML plone.app.event//EN
X-WR-TIMEZONE:US/Central
BEGIN:VEVENT
SUMMARY:America 250 Makeover: Lincoln's Cabin Edition
DTSTART;TZID=US/Central:20260423T180000
DTEND;TZID=US/Central:20260423T193000
DTSTAMP:20260423T035829Z
UID:b791a56ef2ca4a0ca93cdec0e2377434@saas_stack_varnish:6080
CONTACT:Salem Public Library\, 573-729-4331
CREATED:20260319T212305Z
DESCRIPTION:This is an all ages STEAM event intended just for the FUN of c
 elebrating America's 250th anniversary!
LAST-MODIFIED:20260326T201905Z
LOCATION:Salem Public Library North Basement Meeting Room
URL:https://www.salempubliclibrary.net/calendar-news/events/america-250-ma
 keover-lincoln-cabin-addition
END:VEVENT
BEGIN:VEVENT
SUMMARY:Children's Story Time & Signing With The Author
DTSTART;TZID=US/Central:20260502T103000
DTEND;TZID=US/Central:20260502T110000
DTSTAMP:20260423T035829Z
UID:df9239b2d439482a8e551b8bdac3ce80@saas_stack_varnish:6080
CONTACT:573-729-4331
CREATED:20260327T165253Z
DESCRIPTION:Join us Saturday\, May 2nd\, at 10:30 AM as local author\, Rac
 hel Johnson\, reads her book “Mrs. Johnson and the Chocolate Conundrum
 ”! This event is appropriate for all ages and will take place in the chi
 ldren’s section of the library.\n\nHere is a short synopsis of her book:
  “Ever wondered where chocolate comes from? How do the sweet chocolate c
 onfectioneries we buy at the store get made? Join Mrs. Johnson and her cla
 ss as they tackle this conundrum and explore the chocolate-making process 
 from start to finish."\n\nThis program is free. There is no library card o
 r fee required to participate.
LAST-MODIFIED:20260327T165438Z
LOCATION:Salem Public Library's Children's Section
URL:https://www.salempubliclibrary.net/calendar-news/events/childrens-stor
 y-time-signing-with-the-author
END:VEVENT
BEGIN:VEVENT
SUMMARY:Recollections
DTSTART;TZID=US/Central:20260513T103000
DTSTAMP:20260423T035829Z
UID:1403bedf4ce046d98d2a61532403c332@saas_stack_varnish:6080
RRULE:FREQ=MONTHLY;COUNT=12;BYDAY=+2WE
CREATED:20250805T151617Z
DESCRIPTION:Recollections is a revival of the library's older adult progra
 m\, an opportunity to gather and share memories on a central theme. While 
 anyone is welcome\, content is designed for those who are at least 60 year
 s of age. Programs will be held in the library's downstairs meeting room a
 t 10:30 AM on the 2nd Wednesday of each month. Please use the outside ramp
  or stairs on the north side of the building. Library membership is not re
 quired and there is no fee for participation.
LAST-MODIFIED:20250805T151631Z
LOCATION:Salem Public Library North Basement Meeting Room
URL:https://www.salempubliclibrary.net/calendar-news/events/recollections-
 2
END:VEVENT
BEGIN:VEVENT
SUMMARY:Children's Story Time & Book Signing With the Author
DTSTART;TZID=US/Central:20260516T100000
DTEND;TZID=US/Central:20260516T233000
DTSTAMP:20260423T035829Z
UID:2654902cf7bd4b6eaf1b22f29e4baa26@saas_stack_varnish:6080
CONTACT:573-729-4331
CREATED:20260321T162724Z
LAST-MODIFIED:20260323T164312Z
LOCATION:Salem Public Library Children's Section
URL:https://www.salempubliclibrary.net/calendar-news/events/kids-story-tim
 e-book-signing-with-the-author
END:VEVENT
BEGIN:VEVENT
SUMMARY:Book Club
DTSTART;TZID=US/Central:20260520T130000
DTEND;TZID=US/Central:20260520T140000
DTSTAMP:20260423T035829Z
UID:5c5c56c7cd8b4644ab0d7830b80c1b5f@saas_stack_varnish:6080
RRULE:FREQ=MONTHLY;COUNT=24;BYDAY=+3WE
CREATED:20260122T210904Z
DESCRIPTION:Calling all book lovers! Come Join us in the meeting room at 1
  PM for the next meeting of our monthly book club. Not sure how to partici
 pate? Feel free to ask a librarian at the circulation desk or call 573-729
 -4331.\n\nThere is NO library card or fee required! All we ask if you brin
 g some title recommendations for future reads.
LAST-MODIFIED:20260203T161323Z
LOCATION:Salem Public Library
URL:https://www.salempubliclibrary.net/calendar-news/events/book-club
END:VEVENT
BEGIN:VEVENT
SUMMARY:Memorial Day: Library Closed
DTSTART;VALUE=DATE:20260525
DTEND;VALUE=DATE:20260526
DTSTAMP:20260423T035829Z
UID:715f661a27a0481ba161d74d6c9aa8fa@saas_stack_varnish:6080
RRULE:FREQ=YEARLY;COUNT=7;BYDAY=-1MO;BYMONTH=5
CATEGORIES:closed
CREATED:20210113T184632Z
DESCRIPTION:The Library will be closed in observance of Memorial Day
LAST-MODIFIED:20230207T151626Z
URL:https://www.salempubliclibrary.net/calendar-news/events/memorial-day-l
 ibrary-closed
END:VEVENT
BEGIN:VEVENT
SUMMARY:Meet the Author & Book Signing
DTSTART;TZID=US/Central:20260606T103000
DTEND;TZID=US/Central:20260606T130000
DTSTAMP:20260423T035829Z
UID:2429930eeafc4a5f80ee1e2da5ef26ea@saas_stack_varnish:6080
CONTACT:573-729-4331
CREATED:20260321T164248Z
LAST-MODIFIED:20260321T164323Z
URL:https://www.salempubliclibrary.net/calendar-news/events/meet-the-autho
 r-book-signing
END:VEVENT
BEGIN:VEVENT
SUMMARY:Independence Day: Library Closed
DTSTART;VALUE=DATE:20260704
DTEND;VALUE=DATE:20260705
DTSTAMP:20260423T035829Z
UID:c449c57363c94a908b5868725f11303f@saas_stack_varnish:6080
RRULE:FREQ=YEARLY;COUNT=7;BYMONTHDAY=4;BYMONTH=7
CATEGORIES:closed
CREATED:20210113T184738Z
DESCRIPTION:The Library will be closed in observance of Independence Day
LAST-MODIFIED:20260401T202737Z
URL:https://www.salempubliclibrary.net/calendar-news/events/independence-d
 ay-library-closed
END:VEVENT
BEGIN:VEVENT
SUMMARY:Recycling Storytime Program - Meramec Regional Planning Commission
DTSTART;TZID=US/Central:20260714T130000
DTEND;TZID=US/Central:20260714T143000
DTSTAMP:20260423T035829Z
UID:50ad44ed86a24337adaf50c13c8aac16@saas_stack_varnish:6080
CONTACT:Salem Public Library\, 573-729-4331
CREATED:20260318T153142Z
LAST-MODIFIED:20260318T153148Z
LOCATION:Salem Public Library North Basement Meeting Room
URL:https://www.salempubliclibrary.net/recycling-storytime-program-meramec
 -regional-planning-commission
END:VEVENT
BEGIN:VEVENT
SUMMARY:Labor Day: Library Closed
DTSTART;VALUE=DATE:20260907
DTEND;VALUE=DATE:20260908
DTSTAMP:20260423T035829Z
UID:3882d718d017411d85bb500af0b6ed1e@saas_stack_varnish:6080
RRULE:FREQ=YEARLY;COUNT=7;BYDAY=+1MO;BYMONTH=9
CATEGORIES:closed
CREATED:20210113T202413Z
DESCRIPTION:The Library will be closed in observance of Labor Day
LAST-MODIFIED:20230207T151657Z
URL:https://www.salempubliclibrary.net/calendar-news/events/labor-day-libr
 ary-closed
END:VEVENT
BEGIN:VEVENT
SUMMARY:Veterans Day: Library Closed
DTSTART;VALUE=DATE:20261111
DTEND;VALUE=DATE:20261112
DTSTAMP:20260423T035829Z
UID:54d557b8cfad40948a399b8e4e121c8a@saas_stack_varnish:6080
RRULE:FREQ=YEARLY;COUNT=7;BYMONTHDAY=11;BYMONTH=11
CATEGORIES:closed
CREATED:20220502T164157Z
DESCRIPTION:The Library will be closed in observance of Veterans Day
LAST-MODIFIED:20230207T151812Z
URL:https://www.salempubliclibrary.net/calendar-news/events/veterans-day-l
 ibrary-closed
END:VEVENT
BEGIN:VEVENT
SUMMARY:American Girl Tea Party
DTSTART;TZID=US/Central:20261114T103000
DTEND;TZID=US/Central:20261114T120000
DTSTAMP:20260423T035829Z
UID:78a86713aa024aa3b70fa9bbb923c764@saas_stack_varnish:6080
CONTACT:573-729-4331
CREATED:20260204T163012Z
DESCRIPTION:Elementary and middle school aged children are invited for ref
 reshments\, games\, and crafts!\n\nBring your favorite doll as your guest!
  Dolls do not need to be American Girl brand.\n\nBecause space is limited 
 and so that plenty of supplies may be prepared\, please contact the librar
 y no later than Friday\, November 6th to reserve a seat. The phone number 
 is (573) 729-4331. Kindly notify the library if you will be unable to keep
  a reservation.\nThis program will be hosted in the library's north baseme
 nt meeting space. Please enter from Fifth Street.
LAST-MODIFIED:20260204T163027Z
LOCATION:Salem Public Library North Basement Meeting Room
URL:https://www.salempubliclibrary.net/calendar-news/events/american-girl-
 tea-party
END:VEVENT
BEGIN:VEVENT
SUMMARY:Thanksgiving: Library Closed
DTSTART;VALUE=DATE:20261126
DTEND;VALUE=DATE:20261128
DTSTAMP:20260423T035829Z
UID:760e5218db66492cb5f54e817c147dce@saas_stack_varnish:6080
RRULE:FREQ=YEARLY;COUNT=7;BYDAY=+4TH;BYMONTH=11
CATEGORIES:closed
CREATED:20210113T202555Z
DESCRIPTION:The Library will be closed for Thanksgiving
LAST-MODIFIED:20260401T203248Z
URL:https://www.salempubliclibrary.net/calendar-news/events/thanksgiving-l
 ibrary-closed
END:VEVENT
BEGIN:VEVENT
SUMMARY:Christmas: Library Closed
DTSTART;VALUE=DATE:20261225
DTEND;VALUE=DATE:20261226
DTSTAMP:20260423T035829Z
UID:6adfab3021bc46fa8b20ac04b8644ef6@saas_stack_varnish:6080
RRULE:FREQ=YEARLY;COUNT=7;BYMONTHDAY=25;BYMONTH=12
CATEGORIES:closed
CREATED:20210113T202648Z
DESCRIPTION:The Library will be closed for Christmas
LAST-MODIFIED:20260401T202703Z
URL:https://www.salempubliclibrary.net/calendar-news/events/christmas-libr
 ary-closed
END:VEVENT
BEGIN:VEVENT
SUMMARY:New Year's Day: Library Closed
DTSTART;VALUE=DATE:20270101
DTEND;VALUE=DATE:20270102
DTSTAMP:20260423T035829Z
UID:a3c45a3ac5a041779fcb8620ffbe0b91@saas_stack_varnish:6080
RRULE:FREQ=YEARLY;COUNT=7;BYMONTHDAY=1;BYMONTH=1
CATEGORIES:closed
CREATED:20210113T184258Z
DESCRIPTION:The library will be closed in observance of the New Years Holi
 day.
LAST-MODIFIED:20230207T151509Z
URL:https://www.salempubliclibrary.net/calendar-news/events/new-years-day-
 library-closed
END:VEVENT
BEGIN:VEVENT
SUMMARY:Martin Luther King Jr. Day: Library closed
DTSTART;VALUE=DATE:20270118
DTEND;VALUE=DATE:20270119
DTSTAMP:20260423T035829Z
UID:7b28b11866754286922bee4ac80fede0@saas_stack_varnish:6080
RRULE:FREQ=YEARLY;COUNT=10;BYDAY=+3MO;BYMONTH=1
CATEGORIES:closed
CREATED:20220418T161106Z
DESCRIPTION:The library will be closed in observance of Martin Luther King
  Jr. Day.
LAST-MODIFIED:20230207T151547Z
URL:https://www.salempubliclibrary.net/calendar-news/events/martin-luther-
 king-jr-day-library-closed
END:VEVENT
BEGIN:VEVENT
SUMMARY:President's Day: Library Closed
DTSTART;VALUE=DATE:20270215
DTEND;VALUE=DATE:20270216
DTSTAMP:20260423T035829Z
UID:85c690a3fcf94b67970a36021da3f992@saas_stack_varnish:6080
RRULE:FREQ=YEARLY;COUNT=7;BYDAY=+3MO;BYMONTH=2
CATEGORIES:closed
CREATED:20220418T161503Z
DESCRIPTION:The Library will be closed in observance of President's Day
LAST-MODIFIED:20230207T151605Z
URL:https://www.salempubliclibrary.net/calendar-news/events/presidents-day
 -library-closed
END:VEVENT
BEGIN:VTIMEZONE
TZID:US/Central
X-LIC-LOCATION:US/Central
BEGIN:DAYLIGHT
DTSTART:20260308T030000
TZNAME:CDT
TZOFFSETFROM:-0600
TZOFFSETTO:-0500
END:DAYLIGHT
BEGIN:STANDARD
DTSTART:20261101T010000
TZNAME:CST
TZOFFSETFROM:-0500
TZOFFSETTO:-0600
END:STANDARD
END:VTIMEZONE
END:VCALENDAR
