BEGIN:VCALENDAR
VERSION:2.0
PRODID:-//Plone.org//NONSGML plone.app.event//EN
X-WR-TIMEZONE:US/Central
BEGIN:VEVENT
SUMMARY:Book Signing with Area Author Sarah Moore
DTSTART;TZID=US/Central:20250906T100000
DTEND;TZID=US/Central:20250906T130000
DTSTAMP:20260423T155104Z
UID:34d53bff18a34981a53f8ba721354dd6@saas_stack_varnish:6080
CREATED:20250805T163319Z
DESCRIPTION:Meet Licking author Sarah Mason at Salem Public Library on Sat
 urday\, September 6th! Sarah will have copies of her debut romantic suspen
 se novel\, Riding the Line\, available for signing. The story has been des
 cribed as "Sons of Anarchy meets Lucy Score".\n\n"Detective Katie McGrady 
 has trained for every situation imaginable—but nothing prepares her for 
 going undercover as Nicole Moore\, a hardened woman with a fake rap sheet 
 and a chip on her shoulder. Her mission: infiltrate the Steel Saints Motor
 cycle Club and get close to the DiAngelo crime family. Her rules: don’t 
 break character\, don’t trust anyone\, and definitely don’t fall in lo
 ve.\n\nThen she meets them—Dalton and Maverick. Two brothers. One’s al
 l Southern charm and quiet strength. The other is fire\, fury\, and untame
 d loyalty. Both see through her walls\, and both threaten to burn down eve
 rything she’s built to protect.\n\nAs Katie navigates a world of roaring
  engines\, buried secrets\, and found family\, the lines between right and
  wrong blur—and so does the line between who she’s pretending to be an
 d who she truly is. But danger is closing in fast\, and the deeper she fal
 ls\, the harder it will be to walk away.\n\nRiding the Line is a high-stak
 es\, emotionally charged romantic suspense with morally gray heroes\, a ba
 dass heroine torn between duty and desire\, and the kind of found family t
 hat fights for their own—no matter the cost."
LAST-MODIFIED:20250805T163337Z
LOCATION:Salem Public Library
URL:https://www.salempubliclibrary.net/calendar-news/book-signing-with-are
 a-author-sarah-moore
END:VEVENT
BEGIN:VTIMEZONE
TZID:US/Central
X-LIC-LOCATION:US/Central
BEGIN:DAYLIGHT
DTSTART:20250309T030000
TZNAME:CDT
TZOFFSETFROM:-0600
TZOFFSETTO:-0500
END:DAYLIGHT
END:VTIMEZONE
END:VCALENDAR
