BEGIN:VCALENDAR
VERSION:2.0
PRODID:-//Plone.org//NONSGML plone.app.event//EN
X-WR-TIMEZONE:US/Central
BEGIN:VEVENT
SUMMARY:Animal Adventures! Dungeons & Dragons Basics for Beginners
DTSTART;TZID=US/Central:20240604T120000
DTEND;TZID=US/Central:20240604T130000
DTSTAMP:20260421T092729Z
UID:9a260dc03d334fe38650d0bdd641403d@saas_stack_varnish:6080
ATTENDEE;CN="This program is intended for children age 14 or older.  It is
  limited to 6 participants.";ROLE=REQ-PARTICIPANT:This program is intended
  for children age 14 or older.  It is limited to 6 participants.
CONTACT:Isabella\, (573) 729-4331
CREATED:20240520T210252Z
DESCRIPTION:Adventure Begins at Your Library Summer Reading Program Event
LAST-MODIFIED:20240520T210305Z
LOCATION:North Basement Meeting Room
URL:https://www.salempubliclibrary.net/calendar-news/events/animal-adventu
 res-dungeons-dragons-basics-for-beginners
END:VEVENT
BEGIN:VTIMEZONE
TZID:US/Central
X-LIC-LOCATION:US/Central
BEGIN:DAYLIGHT
DTSTART:20240310T030000
TZNAME:CDT
TZOFFSETFROM:-0600
TZOFFSETTO:-0500
END:DAYLIGHT
END:VTIMEZONE
END:VCALENDAR
