BEGIN:VCALENDAR
VERSION:2.0
PRODID:-//Plone.org//NONSGML plone.app.event//EN
X-WR-TIMEZONE:US/Central
BEGIN:VEVENT
SUMMARY:Book-O'-Lantern Contest
DTSTART;TZID=US/Central:20231003T100000
DTEND;TZID=US/Central:20231024T170000
DTSTAMP:20260421T125335Z
UID:3189291baf334c148fb2b68b56f4096f@saas_stack_varnish:6080
ATTENDEE;CN="This contest is intended for those between the age of 5 years
  through adult.";ROLE=REQ-PARTICIPANT:This contest is intended for those b
 etween the age of 5 years through adult.
CONTACT:Isabella\, (573) 729-4331
CREATED:20231006T163554Z
DESCRIPTION:Pumpkin Decorating Contest
LAST-MODIFIED:20231006T163613Z
LOCATION:Salem Public Library
URL:https://www.salempubliclibrary.net/calendar-news/events/book-o-lantern
 -contest
END:VEVENT
BEGIN:VTIMEZONE
TZID:US/Central
X-LIC-LOCATION:US/Central
BEGIN:DAYLIGHT
DTSTART:20230312T030000
TZNAME:CDT
TZOFFSETFROM:-0600
TZOFFSETTO:-0500
END:DAYLIGHT
END:VTIMEZONE
END:VCALENDAR
