BEGIN:VCALENDAR
VERSION:2.0
PRODID:-//Plone.org//NONSGML plone.app.event//EN
X-WR-TIMEZONE:US/Central
BEGIN:VEVENT
SUMMARY:Dinosaur Program
DTSTART;TZID=US/Central:20231104T103000
DTEND;TZID=US/Central:20231104T120000
DTSTAMP:20260421T091209Z
UID:bd857b78afc249baa68b8c04f5aeeeb0@saas_stack_varnish:6080
ATTENDEE;CN="This program is designed for ages 4 to 3rd grade.";ROLE=REQ-P
 ARTICIPANT:This program is designed for ages 4 to 3rd grade.
CONTACT:(573) 729-4331
CREATED:20231020T195155Z
DESCRIPTION:The library will host a special dinosaur-themed storytime even
 t on Saturday\, November 4th.
LAST-MODIFIED:20231020T195211Z
LOCATION:North Basement Meeting Room
URL:https://www.salempubliclibrary.net/calendar-news/events/dinosaur-progr
 am
END:VEVENT
BEGIN:VTIMEZONE
TZID:US/Central
X-LIC-LOCATION:US/Central
BEGIN:DAYLIGHT
DTSTART:20230312T030000
TZNAME:CDT
TZOFFSETFROM:-0600
TZOFFSETTO:-0500
END:DAYLIGHT
END:VTIMEZONE
END:VCALENDAR
