BEGIN:VCALENDAR
VERSION:2.0
PRODID:-//Plone.org//NONSGML plone.app.event//EN
X-WR-TIMEZONE:US/Central
BEGIN:VEVENT
SUMMARY:Friends of the Library Annual Book Sale
DTSTART;TZID=US/Central:20240608T090000
DTEND;TZID=US/Central:20240608T120000
DTSTAMP:20260421T091644Z
UID:7590c327cb5d4ddfa4ea62e9036133af@saas_stack_varnish:6080
ATTENDEE;CN="This event is intended for all ages.";ROLE=REQ-PARTICIPANT:Th
 is event is intended for all ages.
CONTACT:Ruth Ann Parker
CREATED:20240521T142920Z
DESCRIPTION:Annual Used Book Sale
LAST-MODIFIED:20240521T142927Z
LOCATION:North Basement Meeting Room
URL:https://www.salempubliclibrary.net/calendar-news/events/friends-of-the
 -library-annual-book-sale-3
END:VEVENT
BEGIN:VTIMEZONE
TZID:US/Central
X-LIC-LOCATION:US/Central
BEGIN:DAYLIGHT
DTSTART:20240310T030000
TZNAME:CDT
TZOFFSETFROM:-0600
TZOFFSETTO:-0500
END:DAYLIGHT
END:VTIMEZONE
END:VCALENDAR
