BEGIN:VCALENDAR
VERSION:2.0
PRODID:-//Plone.org//NONSGML plone.app.event//EN
X-WR-TIMEZONE:US/Central
BEGIN:VEVENT
SUMMARY:Gooey Cube! The Darkest Dream: Dungeons & Dragons Basics for Begin
 ners
DTSTART;TZID=US/Central:20240604T133000
DTEND;TZID=US/Central:20240604T150000
DTSTAMP:20260421T090243Z
UID:576148b39ccb442ab40efd34808b7f72@saas_stack_varnish:6080
ATTENDEE;CN="This program is intended for those age 18 or older.  It is li
 mited to 6 participants.";ROLE=REQ-PARTICIPANT:This program is intended fo
 r those age 18 or older.  It is limited to 6 participants.
CONTACT:Isabella\, (573) 729-4331
CREATED:20240520T211111Z
DESCRIPTION:Adventure Begins at Your Library Summer Reading Program Event
LAST-MODIFIED:20240604T165327Z
LOCATION:North Basement Meeting Room
URL:https://www.salempubliclibrary.net/calendar-news/events/gooey-cube-the
 -darkest-dream-dungeons-dragons-basics-for-beginners
END:VEVENT
BEGIN:VTIMEZONE
TZID:US/Central
X-LIC-LOCATION:US/Central
BEGIN:DAYLIGHT
DTSTART:20240310T030000
TZNAME:CDT
TZOFFSETFROM:-0600
TZOFFSETTO:-0500
END:DAYLIGHT
END:VTIMEZONE
END:VCALENDAR
