BEGIN:VCALENDAR
VERSION:2.0
PRODID:-//Plone.org//NONSGML plone.app.event//EN
X-WR-TIMEZONE:US/Central
BEGIN:VEVENT
SUMMARY:Owl Moon & More!  Story Time and Craft Collaboration
DTSTART;TZID=US/Central:20240309T100000
DTEND;TZID=US/Central:20240309T120000
DTSTAMP:20260421T102751Z
UID:d0da392d456440d68bcfdc6060580c89@saas_stack_varnish:6080
ATTENDEE;CN="This program is for children of all ages.  Children must be a
 ccompanied by an adult.";ROLE=REQ-PARTICIPANT:This program is for children
  of all ages.  Children must be accompanied by an adult.
CONTACT:(573) 729-4331
CREATED:20240302T164220Z
DESCRIPTION:Children of all ages are invited to create paper owls inspired
  by the beloved book Owl Moon by Jane Yolen.  An interpreter from Montauk 
 State Park will also have fun facts and more to share about owls!
LAST-MODIFIED:20240302T164257Z
LOCATION:North Basement Meeting Room
URL:https://www.salempubliclibrary.net/calendar-news/events/owl-moon-more-
 story-time-and-craft-collaboration
END:VEVENT
BEGIN:VTIMEZONE
TZID:US/Central
X-LIC-LOCATION:US/Central
BEGIN:STANDARD
DTSTART:20231105T010000
TZNAME:CST
TZOFFSETFROM:-0500
TZOFFSETTO:-0600
END:STANDARD
END:VTIMEZONE
END:VCALENDAR
