BEGIN:VCALENDAR
VERSION:2.0
PRODID:-//Plone.org//NONSGML plone.app.event//EN
X-WR-TIMEZONE:US/Central
BEGIN:VEVENT
SUMMARY:Smokey Bear Reading Challenge
DTSTART;VALUE=DATE:20240806
DTEND;VALUE=DATE:20240807
DTSTAMP:20260419T173638Z
UID:41b6e0f08201480f875d58d2ee5500cf@saas_stack_varnish:6080
RRULE:FREQ=DAILY;UNTIL=20240928T000000
EXDATE;TZID=US/Central:20240811T000000,20240811T000000,20240818T000000,202
 40825T000000,20240901T000000,20240908T000000,20240915T000000,20240915T0000
 00,20240922T000000,20240922T000000
ATTENDEE;CN="This reading challenge is designed for children from birth th
 rough elementary school.  However, readers of all ages are welcome to part
 icipate.";ROLE=REQ-PARTICIPANT:This reading challenge is designed for chil
 dren from birth through elementary school.  However, readers of all ages a
 re welcome to participate.
CREATED:20240808T211137Z
DESCRIPTION:Celebrate Smokey Bear's 80th birthday at Salem Public Library!
LAST-MODIFIED:20240808T211655Z
URL:https://www.salempubliclibrary.net/calendar-news/events/smokey-bear-re
 ading-challenge
END:VEVENT
END:VCALENDAR
