BEGIN:VCALENDAR
VERSION:2.0
PRODID:-//Plone.org//NONSGML plone.app.event//EN
X-WR-TIMEZONE:US/Central
BEGIN:VEVENT
SUMMARY:Temporary Change in Hours
DTSTART;TZID=US/Central:20240213T130000
DTEND;TZID=US/Central:20240213T170000
DTSTAMP:20260421T110611Z
UID:5a3281783efe47feb0dc11d7bb896e81@saas_stack_varnish:6080
CONTACT:Library Staff\, (573) 729-4331
CREATED:20240105T195416Z
DESCRIPTION:Different hours of operation on 2/13/24.
LAST-MODIFIED:20240105T200159Z
URL:https://www.salempubliclibrary.net/calendar-news/events/temporary-chan
 ge-in-hours
END:VEVENT
BEGIN:VTIMEZONE
TZID:US/Central
X-LIC-LOCATION:US/Central
BEGIN:STANDARD
DTSTART:20231105T010000
TZNAME:CST
TZOFFSETFROM:-0500
TZOFFSETTO:-0600
END:STANDARD
END:VTIMEZONE
END:VCALENDAR
