BEGIN:VCALENDAR
VERSION:2.0
PRODID:-//Plone.org//NONSGML plone.app.event//EN
X-WR-TIMEZONE:US/Central
BEGIN:VEVENT
SUMMARY:NO Preschool Program this month.
DTSTART;VALUE=DATE:20250812
DTEND;VALUE=DATE:20250813
DTSTAMP:20260423T155134Z
UID:f5b1a132efea4238b363923a56f3b2d2@saas_stack_varnish:6080
CREATED:20250805T150755Z
DESCRIPTION:There will unfortunately be no preschool program in the month 
 of August. We are sorry for the inconvenience.
LAST-MODIFIED:20250805T151811Z
URL:https://www.salempubliclibrary.net/calendar-news/no-preschool-program-
 this-month
END:VEVENT
END:VCALENDAR
